BEGIN:VCALENDAR
VERSION:2.0
PRODID:-//pretix//pretix.eu//
BEGIN:VEVENT
UID:pretix-issm-2026-0@tickets.issm2026.com
DTSTART;VALUE=DATE:20260830
DTEND;VALUE=DATE:20260905
DESCRIPTION:Tickets: https://tickets.issm2026.com/\nOrganizer: University o
 f Vienna
DTSTAMP:20260422T042500Z
LOCATION:Djerassiplatz 1/2\, 1030 Wien
SUMMARY:12th International Symposium on Subsurface Microbiology Vienna 2026
END:VEVENT
END:VCALENDAR
